BEGIN:VCALENDAR
VERSION:2.0
PRODID:-//Friends of The Ivy | Heddington | Wiltshire - ECPv6.15.20//NONSGML v1.0//EN
CALSCALE:GREGORIAN
METHOD:PUBLISH
X-WR-CALNAME:Friends of The Ivy | Heddington | Wiltshire
X-ORIGINAL-URL:https://friendsoftheivy.org.uk
X-WR-CALDESC:Events for Friends of The Ivy | Heddington | Wiltshire
REFRESH-INTERVAL;VALUE=DURATION:PT1H
X-Robots-Tag:noindex
X-PUBLISHED-TTL:PT1H
BEGIN:VTIMEZONE
TZID:Europe/London
BEGIN:DAYLIGHT
TZOFFSETFROM:+0000
TZOFFSETTO:+0100
TZNAME:BST
DTSTART:20240331T010000
END:DAYLIGHT
BEGIN:STANDARD
TZOFFSETFROM:+0100
TZOFFSETTO:+0000
TZNAME:GMT
DTSTART:20241027T010000
END:STANDARD
BEGIN:DAYLIGHT
TZOFFSETFROM:+0000
TZOFFSETTO:+0100
TZNAME:BST
DTSTART:20250330T010000
END:DAYLIGHT
BEGIN:STANDARD
TZOFFSETFROM:+0100
TZOFFSETTO:+0000
TZNAME:GMT
DTSTART:20251026T010000
END:STANDARD
BEGIN:DAYLIGHT
TZOFFSETFROM:+0000
TZOFFSETTO:+0100
TZNAME:BST
DTSTART:20260329T010000
END:DAYLIGHT
BEGIN:STANDARD
TZOFFSETFROM:+0100
TZOFFSETTO:+0000
TZNAME:GMT
DTSTART:20261025T010000
END:STANDARD
END:VTIMEZONE
BEGIN:VEVENT
DTSTART;TZID=Europe/London:20251219T190000
DTEND;TZID=Europe/London:20251219T230000
DTSTAMP:20260421T165252
CREATED:20251205T190044Z
LAST-MODIFIED:20251206T081341Z
UID:2696-1766170800-1766185200@friendsoftheivy.org.uk
SUMMARY:2025 Christmas Pop Up Pub
DESCRIPTION:Our December Pop up Pub on Friday 19th December is going to be a Village Christmas Party.  The bar will open at 7pm and we will be serving mulled wine and cider alongside the usual drinks\, and sharing home-made mince pies.  On the same night\, the “Carols Around the Village” team – supported by Heddington Amateur Dramatics Association – will be doing their annual Christmas tour around the village.  This year they are raising money for the Church’s kitchen and loo project. At the end of their circuit they are going to park outside the Village Hall where traditionally Mike Alexander and Sally Haskins supply them with festive mince pies. We will also give them a drink from the bar. Weather permitting we can then all make our way along to the Heddington Christmas Tree in the Royal British Legion memorial garden. This beautiful tree has kindly been donated to us by Blacklands Trees and decorated by the Craft and Chat group. Beside the tree will be the perfect place for us all to join in singing a few Christmas carols. \nSo many of our organisations will be represented in this fun evening\, and it will be a wonderful way for us to celebrate all the things our community has achieved this year. \nDig out your Christmas jumpers and glittery tops for this special night!
URL:https://friendsoftheivy.org.uk/event/2025-christmas-pop-up-pub/
LOCATION:Heddington Village Hall\, Church Road\, Heddington\, Wiltshire\, SN11 0PN\, United Kingdom
CATEGORIES:Fundraising,Save The Ivy campaign
ATTACH;FMTTYPE=image/jpeg:https://friendsoftheivy.org.uk/wp-content/uploads/2025/12/2025-Christmas-Party-Flyer.jpg
END:VEVENT
END:VCALENDAR