BEGIN:VCALENDAR
VERSION:2.0
PRODID:-//Friends of The Ivy | Heddington | Wiltshire - ECPv6.15.20//NONSGML v1.0//EN
CALSCALE:GREGORIAN
METHOD:PUBLISH
X-WR-CALNAME:Friends of The Ivy | Heddington | Wiltshire
X-ORIGINAL-URL:https://friendsoftheivy.org.uk
X-WR-CALDESC:Events for Friends of The Ivy | Heddington | Wiltshire
REFRESH-INTERVAL;VALUE=DURATION:PT1H
X-Robots-Tag:noindex
X-PUBLISHED-TTL:PT1H
BEGIN:VTIMEZONE
TZID:Europe/London
BEGIN:DAYLIGHT
TZOFFSETFROM:+0000
TZOFFSETTO:+0100
TZNAME:BST
DTSTART:20250330T010000
END:DAYLIGHT
BEGIN:STANDARD
TZOFFSETFROM:+0100
TZOFFSETTO:+0000
TZNAME:GMT
DTSTART:20251026T010000
END:STANDARD
BEGIN:DAYLIGHT
TZOFFSETFROM:+0000
TZOFFSETTO:+0100
TZNAME:BST
DTSTART:20260329T010000
END:DAYLIGHT
BEGIN:STANDARD
TZOFFSETFROM:+0100
TZOFFSETTO:+0000
TZNAME:GMT
DTSTART:20261025T010000
END:STANDARD
BEGIN:DAYLIGHT
TZOFFSETFROM:+0000
TZOFFSETTO:+0100
TZNAME:BST
DTSTART:20270328T010000
END:DAYLIGHT
BEGIN:STANDARD
TZOFFSETFROM:+0100
TZOFFSETTO:+0000
TZNAME:GMT
DTSTART:20271031T010000
END:STANDARD
END:VTIMEZONE
BEGIN:VEVENT
DTSTART;TZID=Europe/London:20261003T190000
DTEND;TZID=Europe/London:20261003T230000
DTSTAMP:20260424T100615
CREATED:20260219T163553Z
LAST-MODIFIED:20260219T202049Z
UID:2819-1791054000-1791068400@friendsoftheivy.org.uk
SUMMARY:Heddington Harvest Auction 2026
DESCRIPTION:The traditional village auction will be held in the Charles Willis Hall on Saturday\, 3 October at 7.00pm. \nDonations can be accepted from 4pm at the Village Hall\, prior to main doors open for auction at 7pm.
URL:https://friendsoftheivy.org.uk/event/heddington-harvest-auction-2026/
LOCATION:Heddington Village Hall\, Church Road\, Heddington\, Wiltshire\, SN11 0PN\, United Kingdom
CATEGORIES:Fundraising,Save The Ivy campaign
ATTACH;FMTTYPE=image/jpeg:https://friendsoftheivy.org.uk/wp-content/uploads/2024/09/Heddington-Harvest-Auction.jpg
ORGANIZER;CN="Lynda Brown":MAILTO:lynda.brown48@me.com
END:VEVENT
END:VCALENDAR